BEGIN:VCALENDAR
VERSION:2.0
PRODID:-//eventon.com NONSGML v1.0//EN
CALSCALE:GREGORIAN
METHOD:PUBLISH
BEGIN:VEVENT
UID:69e74165a409e
DTSTAMP:20260421T092037Z
DTSTART:20260503T000000Z
DTEND:20260503T040000Z
LOCATION:North Perth Town Hall 26 View St\,  North Perth\,  WA 6006\,  Australia
SUMMARY:Perth Pre Loved Market
DESCRIPTION:MAY 3RD 8AM–12PMNORTH PERTH TOWN HALL An elevated edit of Per
 th’s most coveted wardrobes redefined through a more conscious lens. Thin
 k luxury labels\,  premium fabrics\,  and timeless pieces designed to be wo
 rn\,  loved and lived in again and again. This is sustainable fashion at it
 s most refined: extending the life[..]\nhttps://perthhappenings.com.au/even
 ts/perth-pre-loved-market/
URL:https://perthhappenings.com.au/events/perth-pre-loved-market/
END:VEVENT
END:VCALENDAR