BEGIN:VCALENDAR
VERSION:2.0
PRODID:-//eventon.com NONSGML v1.0//EN
CALSCALE:GREGORIAN
METHOD:PUBLISH
BEGIN:VEVENT
UID:69e742145da21
DTSTAMP:20260421T092332Z
DTSTART:20260719T050000Z
DTEND:20260719T070000Z
LOCATION:Cabaret Cave\,  Yanchep National Park 1 Indian Ocean Drive\,  Yanchep\,  WA 6065\,  Australia
SUMMARY:Kundalini Yoga\,  Sound Healing and Breathwork (Yanchep Cabaret Cave)
DESCRIPTION:Kundalini Yoga\,  Sound Healing and Breathwork (Yanchep Cabaret
  Cave)\nhttps://perthhappenings.com.au/events/kundalini-yoga-sound-healing-
 breathwork-yanchep-cabaret-cave/
URL:https://perthhappenings.com.au/events/kundalini-yoga-sound-healing-breathwork-yanchep-cabaret-cave/
END:VEVENT
END:VCALENDAR