BEGIN:VCALENDAR
VERSION:2.0
PRODID:-//eventon.com NONSGML v1.0//EN
CALSCALE:GREGORIAN
METHOD:PUBLISH
BEGIN:VEVENT
UID:69e7401e6507d
DTSTAMP:20260421T091510Z
DTSTART:20260614T070000Z
DTEND:20260614T070000Z
LOCATION:Cabaret Cave\,  Yanchep National Park 1 Indian Ocean Drive\,  Yanchep\,  WA 6065\,  Australia
SUMMARY:Sound Healing and Breath with Cacao\,  Taiko Drum and Gong (Yanchep Cabaret Caves)
DESCRIPTION:Sound Healing and Breath with Cacao\,  Taiko Drum and Gong (Yan
 chep Cabaret Caves)\nhttps://perthhappenings.com.au/events/sound-healing-br
 eath-with-cacao-taiko-drum-gong-yanchep-cabaret-caves/
URL:https://perthhappenings.com.au/events/sound-healing-breath-with-cacao-taiko-drum-gong-yanchep-cabaret-caves/
END:VEVENT
END:VCALENDAR