BEGIN:VCALENDAR
VERSION:2.0
PRODID:-//eventon.com NONSGML v1.0//EN
CALSCALE:GREGORIAN
METHOD:PUBLISH
BEGIN:VEVENT
UID:69e741598ad42
DTSTAMP:20260421T092025Z
DTSTART:20260524T050000Z
DTEND:20260524T070000Z
LOCATION:
SUMMARY:Transformative Breathwork and Sound Healing (Yanchep Cabaret Cave)
DESCRIPTION:Transformative Breathwork and Sound Healing (Yanchep Cabaret Ca
 ve)\nhttps://perthhappenings.com.au/events/transformative-breathwork-sound-
 healing-yanchep-cabaret-cave/
URL:https://perthhappenings.com.au/events/transformative-breathwork-sound-healing-yanchep-cabaret-cave/
END:VEVENT
END:VCALENDAR