BEGIN:VCALENDAR
VERSION:2.0
PRODID:-//eventon.com NONSGML v1.0//EN
CALSCALE:GREGORIAN
METHOD:PUBLISH
BEGIN:VEVENT
UID:69e9db4e53a4e
DTSTAMP:20260423T084150Z
DTSTART:20260503T050000Z
DTEND:20260503T070000Z
LOCATION:Cabaret Cave\,  Yanchep National Park 1 Indian Ocean Drive\,  Yanchep\,  WA 6065\,  Australia
SUMMARY:Sound Healing\,  Breathwork and Meditation (Yanchep Cabaret Caves)
DESCRIPTION:Sound Healing\,  Breathwork and Meditation (Yanchep Cabaret Cav
 es)\nhttps://perthhappenings.com.au/events/sound-healing-breathwork-meditat
 ion-yanchep-cabaret-caves/
URL:https://perthhappenings.com.au/events/sound-healing-breathwork-meditation-yanchep-cabaret-caves/
END:VEVENT
END:VCALENDAR