BEGIN:VCALENDAR
VERSION:2.0
PRODID:-//eventon.com NONSGML v1.0//EN
CALSCALE:GREGORIAN
METHOD:PUBLISH
BEGIN:VEVENT
UID:69e7420ee9858
DTSTAMP:20260421T092326Z
DTSTART:20260516T100000Z
DTEND:20260516T155900Z
LOCATION:Midland Guildford Cricket Club West Swan Road\,  Caversham\,  Western 6055\,  Australia
SUMMARY:Driving Miss Daisy Music Quiz Night
DESCRIPTION:Driving Miss Daisy Music Quiz Night\nhttps://perthhappenings.co
 m.au/events/driving-miss-daisy-music-quiz-night/
URL:https://perthhappenings.com.au/events/driving-miss-daisy-music-quiz-night/
END:VEVENT
END:VCALENDAR