BEGIN:VCALENDAR
VERSION:2.0
PRODID:-//eventon.com NONSGML v1.0//EN
CALSCALE:GREGORIAN
METHOD:PUBLISH
BEGIN:VEVENT
UID:69e73bf9c7b29
DTSTAMP:20260421T085729Z
DTSTART:20260217T033500Z
DTEND:20260217T041500Z
LOCATION:
SUMMARY:Music Makers Just for Minis (Eden Hill Location)
DESCRIPTION:Music Makers Just for Minis (Eden Hill Location)\nhttps://perth
 happenings.com.au/events/music-makers-just-for-minis-eden-hill-location/var
 /ri-17.l-L1
URL:https://perthhappenings.com.au/events/music-makers-just-for-minis-eden-hill-location/var/ri-17.l-L1
END:VEVENT
END:VCALENDAR