BEGIN:VCALENDAR
VERSION:2.0
PRODID:-//eventon.com NONSGML v1.0//EN
CALSCALE:GREGORIAN
METHOD:PUBLISH
BEGIN:VEVENT
UID:69e7411d8b1b8
DTSTAMP:20260421T091925Z
DTSTART:20260523T093000Z
DTEND:20260523T113000Z
LOCATION:
SUMMARY:Fremantle's True Crime Tour
DESCRIPTION:Fremantle's True Crime Tour\nhttps://perthhappenings.com.au/eve
 nts/fremantles-true-crime-tour/var/ri-76.l-L1
URL:https://perthhappenings.com.au/events/fremantles-true-crime-tour/var/ri-76.l-L1
END:VEVENT
END:VCALENDAR