BEGIN:VCALENDAR
VERSION:2.0
PRODID:-//eventon.com NONSGML v1.0//EN
CALSCALE:GREGORIAN
METHOD:PUBLISH
BEGIN:VEVENT
UID:69e755b6eb2ce
DTSTAMP:20260421T104718Z
DTSTART:20270220T093000Z
DTEND:20270220T113000Z
LOCATION:
SUMMARY:Fremantle's True Crime Tour
DESCRIPTION:Fremantle's True Crime Tour\nhttps://perthhappenings.com.au/eve
 nts/fremantles-true-crime-tour/var/ri-115.l-L1
URL:https://perthhappenings.com.au/events/fremantles-true-crime-tour/var/ri-115.l-L1
END:VEVENT
END:VCALENDAR