BEGIN:VCALENDAR
VERSION:2.0
PRODID:-//eventon.com NONSGML v1.0//EN
CALSCALE:GREGORIAN
METHOD:PUBLISH
BEGIN:VEVENT
UID:69e5ef1873995
DTSTAMP:20260420T091712Z
DTSTART:20261121T093000Z
DTEND:20261121T113000Z
LOCATION:
SUMMARY:Fremantle's True Crime Tour
DESCRIPTION:Fremantle's True Crime Tour\nhttps://perthhappenings.com.au/eve
 nts/fremantles-true-crime-tour/var/ri-102.l-L1
URL:https://perthhappenings.com.au/events/fremantles-true-crime-tour/var/ri-102.l-L1
END:VEVENT
END:VCALENDAR