BEGIN:VCALENDAR
VERSION:2.0
PRODID:-//eventon.com NONSGML v1.0//EN
CALSCALE:GREGORIAN
METHOD:PUBLISH
BEGIN:VEVENT
UID:69e741d61bd61
DTSTAMP:20260421T092230Z
DTSTART:20261114T093000Z
DTEND:20261114T113000Z
LOCATION:
SUMMARY:Fremantle's True Crime Tour
DESCRIPTION:Fremantle's True Crime Tour\nhttps://perthhappenings.com.au/eve
 nts/fremantles-true-crime-tour/var/ri-101.l-L1
URL:https://perthhappenings.com.au/events/fremantles-true-crime-tour/var/ri-101.l-L1
END:VEVENT
END:VCALENDAR