BEGIN:VCALENDAR
VERSION:2.0
PRODID:-//eventon.com NONSGML v1.0//EN
CALSCALE:GREGORIAN
METHOD:PUBLISH
BEGIN:VEVENT
UID:69e5ef07c7da3
DTSTAMP:20260420T091655Z
DTSTART:20260220T093000Z
DTEND:20260220T113000Z
LOCATION:
SUMMARY:Perth's True Crime Tour
DESCRIPTION:Perth's True Crime Tour\nhttps://perthhappenings.com.au/events/
 perths-true-crime-tour/var/ri-63.l-L1
URL:https://perthhappenings.com.au/events/perths-true-crime-tour/var/ri-63.l-L1
END:VEVENT
END:VCALENDAR