BEGIN:VCALENDAR
VERSION:2.0
PRODID:-//eventon.com NONSGML v1.0//EN
CALSCALE:GREGORIAN
METHOD:PUBLISH
BEGIN:VEVENT
UID:69e742b7a5368
DTSTAMP:20260421T092615Z
DTSTART:20270319T093000Z
DTEND:20270319T113000Z
LOCATION:
SUMMARY:Perth's True Crime Tour
DESCRIPTION:Perth's True Crime Tour\nhttps://perthhappenings.com.au/events/
 perths-true-crime-tour/var/ri-119.l-L1
URL:https://perthhappenings.com.au/events/perths-true-crime-tour/var/ri-119.l-L1
END:VEVENT
END:VCALENDAR